BEGIN:VCALENDAR
VERSION:2.0
PRODID:-//AA District 30 Virginia - ECPv6.15.12.2//NONSGML v1.0//EN
CALSCALE:GREGORIAN
METHOD:PUBLISH
X-ORIGINAL-URL:https://www.aadistrict30va.org/wp
X-WR-CALDESC:Events for AA District 30 Virginia
REFRESH-INTERVAL;VALUE=DURATION:PT1H
X-Robots-Tag:noindex
X-PUBLISHED-TTL:PT1H
BEGIN:VTIMEZONE
TZID:America/New_York
BEGIN:DAYLIGHT
TZOFFSETFROM:-0500
TZOFFSETTO:-0400
TZNAME:EDT
DTSTART:20230312T070000
END:DAYLIGHT
BEGIN:STANDARD
TZOFFSETFROM:-0400
TZOFFSETTO:-0500
TZNAME:EST
DTSTART:20231105T060000
END:STANDARD
BEGIN:DAYLIGHT
TZOFFSETFROM:-0500
TZOFFSETTO:-0400
TZNAME:EDT
DTSTART:20240310T070000
END:DAYLIGHT
BEGIN:STANDARD
TZOFFSETFROM:-0400
TZOFFSETTO:-0500
TZNAME:EST
DTSTART:20241103T060000
END:STANDARD
BEGIN:DAYLIGHT
TZOFFSETFROM:-0500
TZOFFSETTO:-0400
TZNAME:EDT
DTSTART:20250309T070000
END:DAYLIGHT
BEGIN:STANDARD
TZOFFSETFROM:-0400
TZOFFSETTO:-0500
TZNAME:EST
DTSTART:20251102T060000
END:STANDARD
END:VTIMEZONE
BEGIN:VEVENT
DTSTART;TZID=America/New_York:20240703T183000
DTEND;TZID=America/New_York:20240703T200000
DTSTAMP:20260423T080942
CREATED:20240601T235916Z
LAST-MODIFIED:20240602T000059Z
UID:199077-1720031400-1720036800@www.aadistrict30va.org
SUMMARY:4th of July Picnic Pre-Party
DESCRIPTION:
URL:https://www.aadistrict30va.org/wp/event/4th-of-july-picnic-pre-party/
LOCATION:Loriella Park – Shelter B\, 10910 Leavells Rd.\, Fredericksburg\, VA\, 22407\, United States
ATTACH;FMTTYPE=image/jpeg:https://www.aadistrict30va.org/wp/wp-content/uploads/2024/06/IMG_20240601_151803.jpg
END:VEVENT
END:VCALENDAR