BEGIN:VCALENDAR
VERSION:2.0
PRODID:-//AA District 30 Virginia - ECPv6.15.12.2//NONSGML v1.0//EN
CALSCALE:GREGORIAN
METHOD:PUBLISH
X-WR-CALNAME:AA District 30 Virginia
X-ORIGINAL-URL:https://www.aadistrict30va.org/wp
X-WR-CALDESC:Events for AA District 30 Virginia
REFRESH-INTERVAL;VALUE=DURATION:PT1H
X-Robots-Tag:noindex
X-PUBLISHED-TTL:PT1H
BEGIN:VTIMEZONE
TZID:America/New_York
BEGIN:DAYLIGHT
TZOFFSETFROM:-0500
TZOFFSETTO:-0400
TZNAME:EDT
DTSTART:20230312T070000
END:DAYLIGHT
BEGIN:STANDARD
TZOFFSETFROM:-0400
TZOFFSETTO:-0500
TZNAME:EST
DTSTART:20231105T060000
END:STANDARD
BEGIN:DAYLIGHT
TZOFFSETFROM:-0500
TZOFFSETTO:-0400
TZNAME:EDT
DTSTART:20240310T070000
END:DAYLIGHT
BEGIN:STANDARD
TZOFFSETFROM:-0400
TZOFFSETTO:-0500
TZNAME:EST
DTSTART:20241103T060000
END:STANDARD
BEGIN:DAYLIGHT
TZOFFSETFROM:-0500
TZOFFSETTO:-0400
TZNAME:EDT
DTSTART:20250309T070000
END:DAYLIGHT
BEGIN:STANDARD
TZOFFSETFROM:-0400
TZOFFSETTO:-0500
TZNAME:EST
DTSTART:20251102T060000
END:STANDARD
END:VTIMEZONE
BEGIN:VEVENT
DTSTART;TZID=America/New_York:20241110T180000
DTEND;TZID=America/New_York:20241110T190000
DTSTAMP:20260421T053233
CREATED:20241101T141455Z
LAST-MODIFIED:20241101T141455Z
UID:199187-1731261600-1731265200@www.aadistrict30va.org
SUMMARY:Any Lengths Chili
DESCRIPTION:
URL:https://www.aadistrict30va.org/wp/event/any-lengths-chili/
LOCATION:Presbyterian Church\, 810 Princess Ann St\, Fredericksburg\, VA\, 22401\, United States
ATTACH;FMTTYPE=image/jpeg:https://www.aadistrict30va.org/wp/wp-content/uploads/2024/11/Any-Lengths-Chili.jpg
END:VEVENT
END:VCALENDAR