BEGIN:VCALENDAR
VERSION:2.0
PRODID:-//AA District 30 Virginia - ECPv6.15.12.2//NONSGML v1.0//EN
CALSCALE:GREGORIAN
METHOD:PUBLISH
X-WR-CALNAME:AA District 30 Virginia
X-ORIGINAL-URL:https://www.aadistrict30va.org/wp
X-WR-CALDESC:Events for AA District 30 Virginia
REFRESH-INTERVAL;VALUE=DURATION:PT1H
X-Robots-Tag:noindex
X-PUBLISHED-TTL:PT1H
BEGIN:VTIMEZONE
TZID:America/New_York
BEGIN:DAYLIGHT
TZOFFSETFROM:-0500
TZOFFSETTO:-0400
TZNAME:EDT
DTSTART:20230312T070000
END:DAYLIGHT
BEGIN:STANDARD
TZOFFSETFROM:-0400
TZOFFSETTO:-0500
TZNAME:EST
DTSTART:20231105T060000
END:STANDARD
BEGIN:DAYLIGHT
TZOFFSETFROM:-0500
TZOFFSETTO:-0400
TZNAME:EDT
DTSTART:20240310T070000
END:DAYLIGHT
BEGIN:STANDARD
TZOFFSETFROM:-0400
TZOFFSETTO:-0500
TZNAME:EST
DTSTART:20241103T060000
END:STANDARD
BEGIN:DAYLIGHT
TZOFFSETFROM:-0500
TZOFFSETTO:-0400
TZNAME:EDT
DTSTART:20250309T070000
END:DAYLIGHT
BEGIN:STANDARD
TZOFFSETFROM:-0400
TZOFFSETTO:-0500
TZNAME:EST
DTSTART:20251102T060000
END:STANDARD
END:VTIMEZONE
BEGIN:VEVENT
DTSTART;TZID=America/New_York:20241128T063000
DTEND;TZID=America/New_York:20241128T083000
DTSTAMP:20260421T042544
CREATED:20241030T132219Z
LAST-MODIFIED:20241030T132219Z
UID:199179-1732775400-1732782600@www.aadistrict30va.org
SUMMARY:Early Birds Thanksgiving Day Breakfast
DESCRIPTION:Food Service begins at 6:30 AM\, AA Meeting from 7:30 AM to 8:30 AM\, featuring four speakers offering short shares (5 to 10 minutes each) on gratitude. \nPlease bring a dish to share.
URL:https://www.aadistrict30va.org/wp/event/early-birds-thanksgiving-day-breakfast/
LOCATION:American Legion Post 55\, 461 Woodford St.\, Fredericksburg\, VA\, 22401\, United States
CATEGORIES:Group Event
ATTACH;FMTTYPE=image/jpeg:https://www.aadistrict30va.org/wp/wp-content/uploads/2024/10/462542505_907191828043908_4360430025973577241_n.jpg
END:VEVENT
BEGIN:VEVENT
DTSTART;TZID=America/New_York:20241128T170000
DTEND;TZID=America/New_York:20241128T220000
DTSTAMP:20260421T042544
CREATED:20241101T141251Z
LAST-MODIFIED:20241101T141251Z
UID:199182-1732813200-1732831200@www.aadistrict30va.org
SUMMARY:Chancellor Thank-A-Thon
DESCRIPTION:
URL:https://www.aadistrict30va.org/wp/event/chancellor-thank-a-thon/
LOCATION:Chancellor Community Center\, 7300 Old Plank Road\, Spotsylvania\, VA\, 22407\, United States
ATTACH;FMTTYPE=application/pdf:https://www.aadistrict30va.org/wp/wp-content/uploads/2024/11/Thank-A-Thon-2024-Flyer.pdf
END:VEVENT
END:VCALENDAR