BEGIN:VCALENDAR
VERSION:2.0
PRODID:-//AA District 30 Virginia - ECPv6.15.12.2//NONSGML v1.0//EN
CALSCALE:GREGORIAN
METHOD:PUBLISH
X-WR-CALNAME:AA District 30 Virginia
X-ORIGINAL-URL:https://www.aadistrict30va.org/wp
X-WR-CALDESC:Events for AA District 30 Virginia
REFRESH-INTERVAL;VALUE=DURATION:PT1H
X-Robots-Tag:noindex
X-PUBLISHED-TTL:PT1H
BEGIN:VTIMEZONE
TZID:America/New_York
BEGIN:DAYLIGHT
TZOFFSETFROM:-0500
TZOFFSETTO:-0400
TZNAME:EDT
DTSTART:20230312T070000
END:DAYLIGHT
BEGIN:STANDARD
TZOFFSETFROM:-0400
TZOFFSETTO:-0500
TZNAME:EST
DTSTART:20231105T060000
END:STANDARD
BEGIN:DAYLIGHT
TZOFFSETFROM:-0500
TZOFFSETTO:-0400
TZNAME:EDT
DTSTART:20240310T070000
END:DAYLIGHT
BEGIN:STANDARD
TZOFFSETFROM:-0400
TZOFFSETTO:-0500
TZNAME:EST
DTSTART:20241103T060000
END:STANDARD
BEGIN:DAYLIGHT
TZOFFSETFROM:-0500
TZOFFSETTO:-0400
TZNAME:EDT
DTSTART:20250309T070000
END:DAYLIGHT
BEGIN:STANDARD
TZOFFSETFROM:-0400
TZOFFSETTO:-0500
TZNAME:EST
DTSTART:20251102T060000
END:STANDARD
END:VTIMEZONE
BEGIN:VEVENT
DTSTART;TZID=America/New_York:20241026T180000
DTEND;TZID=America/New_York:20241026T210000
DTSTAMP:20260421T181831
CREATED:20241013T113722Z
LAST-MODIFIED:20241013T113842Z
UID:199160-1729965600-1729976400@www.aadistrict30va.org
SUMMARY:Halloween Dance
DESCRIPTION:
URL:https://www.aadistrict30va.org/wp/event/halloween-dance/
LOCATION:Fredericksburg Baptist Church\, 1012 Caroline St.\, Fredericksburg\, VA\, 22401\, United States
ATTACH;FMTTYPE=image/jpeg:https://www.aadistrict30va.org/wp/wp-content/uploads/2024/10/IMG_0572.jpeg
END:VEVENT
BEGIN:VEVENT
DTSTART;TZID=America/New_York:20241012T130000
DTEND;TZID=America/New_York:20241012T160000
DTSTAMP:20260421T181831
CREATED:20240820T162309Z
LAST-MODIFIED:20241010T161429Z
UID:199133-1728738000-1728748800@www.aadistrict30va.org
SUMMARY:Practicing These Principles in All Our Affairs Workshop
DESCRIPTION:Practicing These Principles in All Our Affairs Flyer \nHybrid Participant Workbook \nMeeting ID: 848 2247 7348\nPasscode: 144009
URL:https://www.aadistrict30va.org/wp/event/practicing-these-principles-in-all-our-affairs-workshop/
LOCATION:Peace United Methodist Church\, 801 Maple Grove Dr.\, Fredericksburg\, VA\, 22407\, United States
ATTACH;FMTTYPE=image/png:https://www.aadistrict30va.org/wp/wp-content/uploads/2024/08/Practicing-These-Principles-in-All-Our-Affairs-Flyer.png
END:VEVENT
BEGIN:VEVENT
DTSTART;TZID=America/New_York:20240708T170000
DTEND;TZID=America/New_York:20240708T190000
DTSTAMP:20260421T181831
CREATED:20240629T141645Z
LAST-MODIFIED:20240707T215407Z
UID:199104-1720458000-1720465200@www.aadistrict30va.org
SUMMARY:Practicing These Principles in All Our Affairs Workshop Committee
DESCRIPTION:Meets Weekly ➡️\nJoin Zoom Meeting\nMeeting ID: 870 7776 2639\nPasscode: 689893
URL:https://www.aadistrict30va.org/wp/event/practicing-these-principles-in-all-our-affairs-workshop-committee/
LOCATION:Zoom
CATEGORIES:Committee
END:VEVENT
BEGIN:VEVENT
DTSTART;TZID=America/New_York:20240704T100000
DTEND;TZID=America/New_York:20240704T160000
DTSTAMP:20260421T181831
CREATED:20240602T000029Z
LAST-MODIFIED:20240602T000029Z
UID:199081-1720087200-1720108800@www.aadistrict30va.org
SUMMARY:4th of July Picnic
DESCRIPTION:
URL:https://www.aadistrict30va.org/wp/event/4th-of-july-picnic/
LOCATION:Loriella Park – Shelter B\, 10910 Leavells Rd.\, Fredericksburg\, VA\, 22407\, United States
ATTACH;FMTTYPE=image/jpeg:https://www.aadistrict30va.org/wp/wp-content/uploads/2024/06/IMG_20240601_151803.jpg
END:VEVENT
BEGIN:VEVENT
DTSTART;TZID=America/New_York:20240703T183000
DTEND;TZID=America/New_York:20240703T200000
DTSTAMP:20260421T181831
CREATED:20240601T235916Z
LAST-MODIFIED:20240602T000059Z
UID:199077-1720031400-1720036800@www.aadistrict30va.org
SUMMARY:4th of July Picnic Pre-Party
DESCRIPTION:
URL:https://www.aadistrict30va.org/wp/event/4th-of-july-picnic-pre-party/
LOCATION:Loriella Park – Shelter B\, 10910 Leavells Rd.\, Fredericksburg\, VA\, 22407\, United States
ATTACH;FMTTYPE=image/jpeg:https://www.aadistrict30va.org/wp/wp-content/uploads/2024/06/IMG_20240601_151803.jpg
END:VEVENT
BEGIN:VEVENT
DTSTART;TZID=America/New_York:20240622T130000
DTEND;TZID=America/New_York:20240622T150000
DTSTAMP:20260421T181831
CREATED:20240531T130733Z
LAST-MODIFIED:20240602T000510Z
UID:199058-1719061200-1719068400@www.aadistrict30va.org
SUMMARY:Delegate Report Back
DESCRIPTION:Join Zoom Meeting\nID: 829 1387 6117\nPasscode: 592525 \n\n 
URL:https://www.aadistrict30va.org/wp/event/delegate-report-back/
LOCATION:American Legion Post 55\, 461 Woodford St.\, Fredericksburg\, VA\, 22401\, United States
END:VEVENT
BEGIN:VEVENT
DTSTART;TZID=America/New_York:20240606T173000
DTEND;TZID=America/New_York:20240606T183000
DTSTAMP:20260421T181831
CREATED:20240531T125044Z
LAST-MODIFIED:20240602T001109Z
UID:199052-1717695000-1717698600@www.aadistrict30va.org
SUMMARY:4th of July Picnic Committee Meetings - Thursdays @ 5:30
DESCRIPTION:Hybrid meetings every Thursday @ 5:30pm \nJoin Zoom Meeting\nID: 840 0062 6877\nPasscode: 823058
URL:https://www.aadistrict30va.org/wp/event/4th-of-july-picnic-committee-meetings/
LOCATION:Loriella Park – Shelter B\, 10910 Leavells Rd.\, Fredericksburg\, VA\, 22407\, United States
CATEGORIES:Committee
ATTACH;FMTTYPE=image/jpeg:https://www.aadistrict30va.org/wp/wp-content/uploads/2024/05/4thofJulyCommittee.jpg
END:VEVENT
END:VCALENDAR